BEGIN:VCALENDAR
VERSION:2.0
PRODID:-//Azimut Travel - ECPv6.15.20//NONSGML v1.0//EN
CALSCALE:GREGORIAN
METHOD:PUBLISH
X-WR-CALNAME:Azimut Travel
X-ORIGINAL-URL:https://azimut-travel.hr
X-WR-CALDESC:Događaji za Azimut Travel
REFRESH-INTERVAL;VALUE=DURATION:PT1H
X-Robots-Tag:noindex
X-PUBLISHED-TTL:PT1H
BEGIN:VTIMEZONE
TZID:UTC
BEGIN:STANDARD
TZOFFSETFROM:+0000
TZOFFSETTO:+0000
TZNAME:UTC
DTSTART:20240101T000000
END:STANDARD
END:VTIMEZONE
BEGIN:VEVENT
DTSTART;VALUE=DATE:20251227
DTEND;VALUE=DATE:20260105
DTSTAMP:20260419T225134
CREATED:20251222T125857Z
LAST-MODIFIED:20251222T125857Z
UID:7845-1766793600-1767571199@azimut-travel.hr
SUMMARY:PORTUGAL NOVA GODINA 2026.
DESCRIPTION:Slika: https://azimut-travel.hr/wp-content/uploads/2023/11/Portugal-nova-godina.jpg
URL:https://azimut-travel.hr/event/portugal-nova-godina-2026/
ATTACH;FMTTYPE=image/jpeg:https://azimut-travel.hr/wp-content/uploads/2025/12/7845_image_Portugal-nova-godina.jpg
END:VEVENT
BEGIN:VEVENT
DTSTART;VALUE=DATE:20251227
DTEND;VALUE=DATE:20260105
DTSTAMP:20260419T225134
CREATED:20251222T125857Z
LAST-MODIFIED:20251222T125857Z
UID:7844-1766793600-1767571199@azimut-travel.hr
SUMMARY: LONDON NOVA GODINA 2026.
DESCRIPTION:Slika: https://azimut-travel.hr/wp-content/uploads/2024/08/London-nova-godina-1.jpeg
URL:https://azimut-travel.hr/event/london-nova-godina-2026/
ATTACH;FMTTYPE=image/jpeg:https://azimut-travel.hr/wp-content/uploads/2025/12/7844_image_London-nova-godina-1.jpeg
END:VEVENT
BEGIN:VEVENT
DTSTART;VALUE=DATE:20251230
DTEND;VALUE=DATE:20260104
DTSTAMP:20260419T225134
CREATED:20251222T125857Z
LAST-MODIFIED:20251222T155553Z
UID:7848-1767052800-1767484799@azimut-travel.hr
SUMMARY:Makedonija i Kosovo - NOVA GODINA 2026
DESCRIPTION:Slika: https://azimut-travel.hr/wp-content/uploads/2024/11/lake-g9c4c13cf7_1920.jpg
URL:https://azimut-travel.hr/event/makedonija-i-kosovo-nova-godina-2026/
END:VEVENT
BEGIN:VEVENT
DTSTART;VALUE=DATE:20251230
DTEND;VALUE=DATE:20260105
DTSTAMP:20260419T225134
CREATED:20251222T125857Z
LAST-MODIFIED:20251222T125857Z
UID:7846-1767052800-1767571199@azimut-travel.hr
SUMMARY:PARIZ & NORMANDIJA NOVA GODINA 2026.
DESCRIPTION:Slika: https://azimut-travel.hr/wp-content/uploads/2024/08/Pariz-nova-godina-1.jpg
URL:https://azimut-travel.hr/event/pariz-normandija-nova-godina-2026/
ATTACH;FMTTYPE=image/jpeg:https://azimut-travel.hr/wp-content/uploads/2025/12/7846_image_Pariz-nova-godina-1.jpg
END:VEVENT
BEGIN:VEVENT
DTSTART;VALUE=DATE:20251230
DTEND;VALUE=DATE:20260105
DTSTAMP:20260419T225134
CREATED:20251222T125857Z
LAST-MODIFIED:20251222T125857Z
UID:7847-1767052800-1767571199@azimut-travel.hr
SUMMARY:AMSTERDAM NOVA GODINA 2026.
DESCRIPTION:Slika: https://azimut-travel.hr/wp-content/uploads/2024/08/Amsterdam-nova-godina.jpg
URL:https://azimut-travel.hr/event/amsterdam-nova-godina-2026/
ATTACH;FMTTYPE=image/jpeg:https://azimut-travel.hr/wp-content/uploads/2025/12/7847_image_Amsterdam-nova-godina.jpg
END:VEVENT
BEGIN:VEVENT
DTSTART;VALUE=DATE:20260221
DTEND;VALUE=DATE:20260303
DTSTAMP:20260419T225134
CREATED:20251222T125857Z
LAST-MODIFIED:20251222T125857Z
UID:7849-1771632000-1772495999@azimut-travel.hr
SUMMARY: London - PROLJEĆE 2026 vol 1
DESCRIPTION:Slika: https://azimut-travel.hr/wp-content/uploads/2024/02/london-ljeto-azimut.jpg
URL:https://azimut-travel.hr/event/london-proljece-2026-vol-1/
ATTACH;FMTTYPE=image/jpeg:https://azimut-travel.hr/wp-content/uploads/2025/12/7849_image_london-ljeto-azimut.jpg
END:VEVENT
BEGIN:VEVENT
DTSTART;VALUE=DATE:20260301
DTEND;VALUE=DATE:20260309
DTSTAMP:20260419T225134
CREATED:20251222T125857Z
LAST-MODIFIED:20251222T125857Z
UID:7850-1772323200-1773014399@azimut-travel.hr
SUMMARY:ISTANBUL - Proljeće 2026
DESCRIPTION:Slika: https://azimut-travel.hr/wp-content/uploads/2025/12/istanbul-cover.webp
URL:https://azimut-travel.hr/event/istanbul-proljece-2026/
END:VEVENT
BEGIN:VEVENT
DTSTART;VALUE=DATE:20260302
DTEND;VALUE=DATE:20260312
DTSTAMP:20260419T225134
CREATED:20251222T125857Z
LAST-MODIFIED:20251222T125857Z
UID:7851-1772409600-1773273599@azimut-travel.hr
SUMMARY:Japan -  PROLJEĆE 2026
DESCRIPTION:Slika: https://azimut-travel.hr/wp-content/uploads/2024/01/Japan-azimut.webp
URL:https://azimut-travel.hr/event/japan-proljece-2026/
END:VEVENT
BEGIN:VEVENT
DTSTART;VALUE=DATE:20260302
DTEND;VALUE=DATE:20260312
DTSTAMP:20260419T225134
CREATED:20251222T125857Z
LAST-MODIFIED:20251222T125857Z
UID:7852-1772409600-1773273599@azimut-travel.hr
SUMMARY:Armenija i Gruzija PROLJEĆE 2026
DESCRIPTION:Slika: https://azimut-travel.hr/wp-content/uploads/2025/03/Armenia.jpg
URL:https://azimut-travel.hr/event/armenija-i-gruzija-proljece-2026/
ATTACH;FMTTYPE=image/jpeg:https://azimut-travel.hr/wp-content/uploads/2025/12/7852_image_Armenia.jpg
END:VEVENT
BEGIN:VEVENT
DTSTART;VALUE=DATE:20260307
DTEND;VALUE=DATE:20260323
DTSTAMP:20260419T225134
CREATED:20251222T125857Z
LAST-MODIFIED:20251222T125857Z
UID:7853-1772841600-1774223999@azimut-travel.hr
SUMMARY:Južna Afrika PROLJEĆE 2026
DESCRIPTION:Slika: https://azimut-travel.hr/wp-content/uploads/2025/11/Afrika-cover.jpg
URL:https://azimut-travel.hr/event/juzna-afrika-proljece-2026/
ATTACH;FMTTYPE=image/jpeg:https://azimut-travel.hr/wp-content/uploads/2025/12/7853_image_Afrika-cover.jpg
END:VEVENT
BEGIN:VEVENT
DTSTART;VALUE=DATE:20260312
DTEND;VALUE=DATE:20260320
DTSTAMP:20260419T225134
CREATED:20251222T125858Z
LAST-MODIFIED:20251222T125858Z
UID:7854-1773273600-1773964799@azimut-travel.hr
SUMMARY:Jordan PROLJEĆE 2026
DESCRIPTION:Slika: https://azimut-travel.hr/wp-content/uploads/2025/11/2-min-scaled.jpg
URL:https://azimut-travel.hr/event/jordan-proljece-2026/
ATTACH;FMTTYPE=image/jpeg:https://azimut-travel.hr/wp-content/uploads/2025/12/7854_image_2-min-scaled-1.jpg
END:VEVENT
BEGIN:VEVENT
DTSTART;VALUE=DATE:20260318
DTEND;VALUE=DATE:20260327
DTSTAMP:20260419T225134
CREATED:20251222T125858Z
LAST-MODIFIED:20251222T125858Z
UID:7855-1773792000-1774569599@azimut-travel.hr
SUMMARY:Tunis - PROLJEĆE 2026
DESCRIPTION:Slika: https://azimut-travel.hr/wp-content/uploads/2023/11/tunis-azimut-deva.jpeg
URL:https://azimut-travel.hr/event/tunis-proljece-2026/
ATTACH;FMTTYPE=image/jpeg:https://azimut-travel.hr/wp-content/uploads/2025/12/7855_image_tunis-azimut-deva.jpeg
END:VEVENT
BEGIN:VEVENT
DTSTART;VALUE=DATE:20260321
DTEND;VALUE=DATE:20260327
DTSTAMP:20260419T225134
CREATED:20251222T125858Z
LAST-MODIFIED:20251222T125858Z
UID:7856-1774051200-1774569599@azimut-travel.hr
SUMMARY:Azerbajdžan - PROLJEĆE 2026
DESCRIPTION:Slika: https://azimut-travel.hr/wp-content/uploads/2025/01/Baku-cover.jpg
URL:https://azimut-travel.hr/event/azerbajdzan-proljece-2026/
ATTACH;FMTTYPE=image/jpeg:https://azimut-travel.hr/wp-content/uploads/2025/12/7856_image_Baku-cover.jpg
END:VEVENT
BEGIN:VEVENT
DTSTART;VALUE=DATE:20260325
DTEND;VALUE=DATE:20260403
DTSTAMP:20260419T225134
CREATED:20251222T125858Z
LAST-MODIFIED:20251222T125858Z
UID:7857-1774396800-1775174399@azimut-travel.hr
SUMMARY:Tunis - PROLJEĆE 2026
DESCRIPTION:Slika: https://azimut-travel.hr/wp-content/uploads/2023/11/tunis-azimut-deva.jpeg
URL:https://azimut-travel.hr/event/tunis-proljece-2026-2/
ATTACH;FMTTYPE=image/jpeg:https://azimut-travel.hr/wp-content/uploads/2025/12/7855_image_tunis-azimut-deva.jpeg
END:VEVENT
BEGIN:VEVENT
DTSTART;VALUE=DATE:20260328
DTEND;VALUE=DATE:20260405
DTSTAMP:20260419T225134
CREATED:20251222T125858Z
LAST-MODIFIED:20251222T125858Z
UID:7859-1774656000-1775347199@azimut-travel.hr
SUMMARY:Moja grčka avantura - PROLJEĆE 2026
DESCRIPTION:Slika: https://azimut-travel.hr/wp-content/uploads/2025/02/greece-4513857_1920-min.jpeg
URL:https://azimut-travel.hr/event/moja-grcka-avantura-proljece-2026/
ATTACH;FMTTYPE=image/jpeg:https://azimut-travel.hr/wp-content/uploads/2025/12/7859_image_greece-4513857_1920-min.jpeg
END:VEVENT
BEGIN:VEVENT
DTSTART;VALUE=DATE:20260328
DTEND;VALUE=DATE:20260406
DTSTAMP:20260419T225134
CREATED:20251222T125858Z
LAST-MODIFIED:20251222T125858Z
UID:7858-1774656000-1775433599@azimut-travel.hr
SUMMARY: London - PROLJEĆE 2026 vol 2
DESCRIPTION:Slika: https://azimut-travel.hr/wp-content/uploads/2024/02/london-ljeto-azimut.jpg
URL:https://azimut-travel.hr/event/london-proljece-2026-vol-2/
ATTACH;FMTTYPE=image/jpeg:https://azimut-travel.hr/wp-content/uploads/2025/12/7849_image_london-ljeto-azimut.jpg
END:VEVENT
BEGIN:VEVENT
DTSTART;VALUE=DATE:20260331
DTEND;VALUE=DATE:20260406
DTSTAMP:20260419T225134
CREATED:20251222T125858Z
LAST-MODIFIED:20251222T125858Z
UID:7860-1774915200-1775433599@azimut-travel.hr
SUMMARY:Pariz i Normandija PROLJEĆE 2026
DESCRIPTION:Slika: https://azimut-travel.hr/wp-content/uploads/2024/01/pariz-small.jpg
URL:https://azimut-travel.hr/event/pariz-i-normandija-proljece-2026/
ATTACH;FMTTYPE=image/jpeg:https://azimut-travel.hr/wp-content/uploads/2025/12/7860_image_pariz-small.jpg
END:VEVENT
BEGIN:VEVENT
DTSTART;VALUE=DATE:20260408
DTEND;VALUE=DATE:20260409
DTSTAMP:20260419T225134
CREATED:20251222T125858Z
LAST-MODIFIED:20251222T125858Z
UID:7861-1775606400-1775692799@azimut-travel.hr
SUMMARY:Tunis - PROLJEĆE 2026
DESCRIPTION:Slika: https://azimut-travel.hr/wp-content/uploads/2023/11/tunis-azimut-deva.jpeg
URL:https://azimut-travel.hr/event/tunis-proljece-2026-3/
ATTACH;FMTTYPE=image/jpeg:https://azimut-travel.hr/wp-content/uploads/2025/12/7855_image_tunis-azimut-deva.jpeg
END:VEVENT
BEGIN:VEVENT
DTSTART;VALUE=DATE:20260409
DTEND;VALUE=DATE:20260420
DTSTAMP:20260419T225134
CREATED:20251222T125858Z
LAST-MODIFIED:20251222T125858Z
UID:7862-1775692800-1776643199@azimut-travel.hr
SUMMARY:Skandinavsko-Baltička tura PROLJEĆE 2026
DESCRIPTION:Slika: https://azimut-travel.hr/wp-content/uploads/2024/01/azimut-skandinavska.jpeg
URL:https://azimut-travel.hr/event/skandinavsko-balticka-tura-proljece-2026/
ATTACH;FMTTYPE=image/jpeg:https://azimut-travel.hr/wp-content/uploads/2025/12/7862_image_azimut-skandinavska.jpeg
END:VEVENT
END:VCALENDAR